BEGIN:VCALENDAR
VERSION:2.0
CALSCALE:GREGORIAN
PRODID:-//WP/GoToICS V1.0//FR

X-WR-CALNAME;VALUE=TEXT:Cercle du Laveu - Programmation
X-WR-RELCALID:https://cercledulaveu.be

BEGIN:VEVENT
X-WR-TIMEZONE:Europe/Brussels
DTSTART:20250914T203000
SUMMARY:Cinéma - La classe ouvrière va au paradis 
LOCATION:Cercle du Laveu - Rue des Wallons 45 - 4000 Liège
DESCRIPTION:Cinéma - La classe ouvrière va au paradis \nd'Elio Petri / Italie / 1971 / 125'\nPrix libre
URL:https://cercledulaveu.be/cdl_events/la-classe-ouvriere-va-au-paradis/
END:VEVENT
END:VCALENDAR