BEGIN:VCALENDAR
VERSION:2.0
CALSCALE:GREGORIAN
PRODID:-//WP/GoToICS V1.0//FR

X-WR-CALNAME;VALUE=TEXT:Cercle du Laveu - Programmation
X-WR-RELCALID:https://cercledulaveu.be

BEGIN:VEVENT
X-WR-TIMEZONE:Europe/Brussels
DTSTART:20250928T203000
SUMMARY:Cinéma - Blue Collar
LOCATION:Cercle du Laveu - Rue des Wallons 45 - 4000 Liège
DESCRIPTION:Cinéma - Blue Collar\nde Paul Schrader / USA / 1978 / 113'\nPrix libre
URL:https://cercledulaveu.be/cdl_events/blue-collar/
END:VEVENT
END:VCALENDAR