BEGIN:VCALENDAR
VERSION:2.0
CALSCALE:GREGORIAN
PRODID:-//WP/GoToICS V1.0//FR

X-WR-CALNAME;VALUE=TEXT:Cercle du Laveu - Programmation
X-WR-RELCALID:https://cercledulaveu.be

BEGIN:VEVENT
X-WR-TIMEZONE:Europe/Brussels
DTSTART:20251012T203000
SUMMARY:Cinéma - Alexandre le Bienheureux
LOCATION:Cercle du Laveu - Rue des Wallons 45 - 4000 Liège
DESCRIPTION:Cinéma - Alexandre le Bienheureux\nde Yves Robert / FRANCE / 1968 / 90’\nPrix libre
URL:https://cercledulaveu.be/cdl_events/alexandre-le-bienheureux/
END:VEVENT
END:VCALENDAR