BEGIN:VCALENDAR
VERSION:2.0
CALSCALE:GREGORIAN
PRODID:-//WP/GoToICS V1.0//FR

X-WR-CALNAME;VALUE=TEXT:Cercle du Laveu - Programmation
X-WR-RELCALID:https://cercledulaveu.be

BEGIN:VEVENT
X-WR-TIMEZONE:Europe/Brussels
DTSTART:20251002T203000
SUMMARY:Cinéma, WTF - New Kids Turbo
LOCATION:Cercle du Laveu - Rue des Wallons 45 - 4000 Liège
DESCRIPTION:Cinéma, WTF - New Kids Turbo\nde Steffen Haars et Flip van der Kuil / Pays-Bas / 2010 / 125’\nPrix libre
URL:https://cercledulaveu.be/cdl_events/new-kids-turbo/
END:VEVENT
END:VCALENDAR