BEGIN:VCALENDAR
VERSION:2.0
CALSCALE:GREGORIAN
PRODID:-//WP/GoToICS V1.0//FR

X-WR-CALNAME;VALUE=TEXT:Cercle du Laveu - Programmation
X-WR-RELCALID:https://cercledulaveu.be

BEGIN:VEVENT
X-WR-TIMEZONE:Europe/Brussels
DTSTART:20250918T203000
SUMMARY:Radio - Suicides au travail
LOCATION:Cercle du Laveu - Rue des Wallons 45 - 4000 Liège
DESCRIPTION:Radio - Suicides au travail\nde Sophie Bruneau  / Belgique / 2010 / 46'\nPrix libre
URL:https://cercledulaveu.be/cdl_events/suicides-au-travail/
END:VEVENT
END:VCALENDAR