BEGIN:VCALENDAR
VERSION:2.0
CALSCALE:GREGORIAN
PRODID:-//WP/GoToICS V1.0//FR

X-WR-CALNAME;VALUE=TEXT:Cercle du Laveu - Programmation
X-WR-RELCALID:https://cercledulaveu.be

BEGIN:VEVENT
X-WR-TIMEZONE:Europe/Brussels
DTSTART:20251025T203000
SUMMARY:Concert - CHOOLERS Division “Foutracks” Release Party + FOKKOPERA + TAKEMO (GE - CDF) - DJ Viktor French
LOCATION:Cercle du Laveu - Rue des Wallons 45 - 4000 Liège
DESCRIPTION:Concert - CHOOLERS Division “Foutracks” Release Party + FOKKOPERA + TAKEMO (GE - CDF) - DJ Viktor French\n10 €
URL:https://cercledulaveu.be/cdl_events/choolers-division-foutracks-release-party-fokkopera-takemo-ge-cdf-dj-viktor-french/
END:VEVENT
END:VCALENDAR