BEGIN:VCALENDAR
VERSION:2.0
CALSCALE:GREGORIAN
PRODID:-//WP/GoToICS V1.0//FR

X-WR-CALNAME;VALUE=TEXT:Cercle du Laveu - Programmation
X-WR-RELCALID:https://cercledulaveu.be

BEGIN:VEVENT
X-WR-TIMEZONE:Europe/Brussels
DTSTART:20250912T193000
SUMMARY:Cinéma, Rencontre - Les frontières tuent : projection du film ‘Hold on to her’ + discussion
LOCATION:Cercle du Laveu - Rue des Wallons 45 - 4000 Liège
DESCRIPTION:Cinéma, Rencontre - Les frontières tuent : projection du film ‘Hold on to her’ + discussion\nEn présence du réalisateur\nPrix libre
URL:https://cercledulaveu.be/cdl_events/les-frontieres-tuent-projection-du-film-hold-on-to-her-discussion/
END:VEVENT
END:VCALENDAR