BEGIN:VCALENDAR
VERSION:2.0
CALSCALE:GREGORIAN
PRODID:-//WP/GoToICS V1.0//FR

X-WR-CALNAME;VALUE=TEXT:Cercle du Laveu - Programmation
X-WR-RELCALID:https://cercledulaveu.be

BEGIN:VEVENT
X-WR-TIMEZONE:Europe/Brussels
DTSTART:20251005T143000
SUMMARY:Musique - Écoute commentée : dans la collection de vinyles de Monstera Occulta
LOCATION:Cercle du Laveu - Rue des Wallons 45 - 4000 Liège
DESCRIPTION:Musique - Écoute commentée : dans la collection de vinyles de Monstera Occulta\nPrix libre
URL:https://cercledulaveu.be/cdl_events/ecoute-commentee-dans-la-collection-de-vinyles-de-monstera-occulta/
END:VEVENT
END:VCALENDAR