BEGIN:VCALENDAR
VERSION:2.0
CALSCALE:GREGORIAN
PRODID:-//WP/GoToICS V1.0//FR

X-WR-CALNAME;VALUE=TEXT:Cercle du Laveu - Programmation
X-WR-RELCALID:https://cercledulaveu.be

BEGIN:VEVENT
X-WR-TIMEZONE:Europe/Brussels
DTSTART:20251029T193000
SUMMARY:Arpentage - Faire de la maladie une arme & autres textes à l'entour du Sozialistisches PatientenKollektiv (SPK)
LOCATION:Cercle du Laveu - Rue des Wallons 45 - 4000 Liège
DESCRIPTION:Arpentage - Faire de la maladie une arme & autres textes à l'entour du Sozialistisches PatientenKollektiv (SPK)\nPrix libre
URL:https://cercledulaveu.be/cdl_events/faire-de-la-maladie-une-arme-autres-textes-a-lentour-du-sozialistisches-patientenkollektiv-spk/
END:VEVENT
END:VCALENDAR