BEGIN:VCALENDAR
VERSION:2.0
CALSCALE:GREGORIAN
PRODID:-//WP/GoToICS V1.0//FR

X-WR-CALNAME;VALUE=TEXT:Cercle du Laveu - Programmation
X-WR-RELCALID:https://cercledulaveu.be

BEGIN:VEVENT
X-WR-TIMEZONE:Europe/Brussels
DTSTART:20200910T203000
SUMMARY:Cinéma - Macchie Solari
LOCATION:Cercle du Laveu - Rue des Wallons 45 - 4000 Liège
DESCRIPTION:Cinéma - Macchie Solari\nDE CRISPINO ARMANDO / ITALIE / 1975 / 79’\nINAUGURATION DE NOTRE PROJECTEUR PELLICULE\nPrix libre
URL:https://cercledulaveu.be/cdl_events/macchie-solari/
END:VEVENT
END:VCALENDAR