BEGIN:VCALENDAR
VERSION:2.0
CALSCALE:GREGORIAN
PRODID:-//WP/GoToICS V1.0//FR

X-WR-CALNAME;VALUE=TEXT:Cercle du Laveu - Programmation
X-WR-RELCALID:https://cercledulaveu.be

BEGIN:VEVENT
X-WR-TIMEZONE:Europe/Brussels
DTSTART:20250629T203000
SUMMARY:Cinéma - Öndög
LOCATION:Cercle du Laveu - Rue des Wallons 45 - 4000 Liège
DESCRIPTION:Cinéma - Öndög\nde Quanan Wang / Chine / 2019 / 100’\nPrix libre
URL:https://cercledulaveu.be/cdl_events/ondog/
END:VEVENT
END:VCALENDAR