BEGIN:VCALENDAR
VERSION:2.0
CALSCALE:GREGORIAN
PRODID:-//WP/GoToICS V1.0//FR

X-WR-CALNAME;VALUE=TEXT:Cercle du Laveu - Programmation
X-WR-RELCALID:https://cercledulaveu.be

BEGIN:VEVENT
X-WR-TIMEZONE:Europe/Brussels
DTSTART:20170921T200000
SUMMARY:Par-delà - Rencontre/écoute par le collectif Nightowl
LOCATION:Cercle du Laveu - Rue des Wallons 45 - 4000 Liège
DESCRIPTION:Par-delà - Rencontre/écoute par le collectif Nightowl\nLes constellations de Knud Viktor. Ethopoésie et images sonores par le collectif Nightowl\n5 €
URL:https://cercledulaveu.be/cdl_events/rencontre-ecoute-par-le-collectif-nightowl/
END:VEVENT
END:VCALENDAR