BEGIN:VCALENDAR
VERSION:2.0
CALSCALE:GREGORIAN
PRODID:-//WP/GoToICS V1.0//FR

X-WR-CALNAME;VALUE=TEXT:Cercle du Laveu - Programmation
X-WR-RELCALID:https://cercledulaveu.be

BEGIN:VEVENT
X-WR-TIMEZONE:Europe/Brussels
DTSTART:20250911T203000
SUMMARY:Cinéma, Rencontre - Travail soigné
LOCATION:Cercle du Laveu - Rue des Wallons 45 - 4000 Liège
DESCRIPTION:Cinéma, Rencontre - Travail soigné\nDe et en présence de Dorothée Bouillon / Belgique / 2024 / 54'\nRéservations obligatoires\n0 €
URL:https://cercledulaveu.be/cdl_events/travail-soigne/
END:VEVENT
END:VCALENDAR